BEGIN:VCALENDAR
VERSION:2.0
PRODID:-//Pub Kamelot Swingers - ECPv6.15.20//NONSGML v1.0//EN
CALSCALE:GREGORIAN
METHOD:PUBLISH
X-WR-CALNAME:Pub Kamelot Swingers
X-ORIGINAL-URL:https://www.kamelotswingers.com
X-WR-CALDESC:Eventos para Pub Kamelot Swingers
REFRESH-INTERVAL;VALUE=DURATION:PT1H
X-Robots-Tag:noindex
X-PUBLISHED-TTL:PT1H
BEGIN:VTIMEZONE
TZID:Europe/Madrid
BEGIN:DAYLIGHT
TZOFFSETFROM:+0100
TZOFFSETTO:+0200
TZNAME:CEST
DTSTART:20250330T010000
END:DAYLIGHT
BEGIN:STANDARD
TZOFFSETFROM:+0200
TZOFFSETTO:+0100
TZNAME:CET
DTSTART:20251026T010000
END:STANDARD
BEGIN:DAYLIGHT
TZOFFSETFROM:+0100
TZOFFSETTO:+0200
TZNAME:CEST
DTSTART:20260329T010000
END:DAYLIGHT
BEGIN:STANDARD
TZOFFSETFROM:+0200
TZOFFSETTO:+0100
TZNAME:CET
DTSTART:20261025T010000
END:STANDARD
BEGIN:DAYLIGHT
TZOFFSETFROM:+0100
TZOFFSETTO:+0200
TZNAME:CEST
DTSTART:20270328T010000
END:DAYLIGHT
BEGIN:STANDARD
TZOFFSETFROM:+0200
TZOFFSETTO:+0100
TZNAME:CET
DTSTART:20271031T010000
END:STANDARD
END:VTIMEZONE
BEGIN:VEVENT
DTSTART;TZID=Europe/Madrid:20260425T220000
DTEND;TZID=Europe/Madrid:20260426T060000
DTSTAMP:20260425T021955
CREATED:20260320T002245Z
LAST-MODIFIED:20260408T232029Z
UID:2652-1777154400-1777183200@www.kamelotswingers.com
SUMMARY:NOCHE DE FANTASIA
DESCRIPTION:Bienvenido al reino donde los sueños cobran vida: Noche de Fantasía. \nEs el momento de dejar atrás la realidad y convertirte en quien siempre has deseado. \nTe invitamos a una experiencia inmersiva donde los límites los pones tú y cada rincón del club se transforma en el escenario de tus anhelos más ocultos. \nAquí\, la magia y el erotismo se fusionan para crear una atmósfera de absoluta libertad y complicidad. \nSaca tu lado más creativo\, déjate envolver por el encanto de lo irreal y comparte tus deseos con mentes afines en un entorno seguro y exclusivo. \n 
URL:https://www.kamelotswingers.com/evento/noche-de-fantasia/
LOCATION:Kamelot Swingers\, Avenida Carlota Alessandri 10\, Torremolinos\, Malaga\, 29620\, España
CATEGORIES:Fiestas
ATTACH;FMTTYPE=image/jpeg:https://www.kamelotswingers.com/wp-content/uploads/2026/04/2026.04.25-Noche-de-fantasia-400-25abril.jpg
ORGANIZER;CN="Kamelot Swingers":MAILTO:info@kamelotswingers.com
END:VEVENT
END:VCALENDAR